BEGIN:VCALENDAR
VERSION:2.0
PRODID:-//Depot Artspace - ECPv4.5.9//NONSGML v1.0//EN
CALSCALE:GREGORIAN
METHOD:PUBLISH
X-WR-CALNAME:Depot Artspace
X-ORIGINAL-URL:http://www.depotartspace.co.nz
X-WR-CALDESC:Events for Depot Artspace
BEGIN:VEVENT
DTSTART;TZID=Pacific/Auckland:20191129T100000
DTEND;TZID=Pacific/Auckland:20191219T160000
DTSTAMP:20191219T023622
CREATED:20191031T023930Z
LAST-MODIFIED:20191215T191826Z
UID:8098-1575021600-1576771200@www.depotartspace.co.nz
SUMMARY:Motu Maua Maunga: Paintings by Chas Foxall
DESCRIPTION:Chas Foxall lives in Auckland and has been an experienced art teacher and Head of Faculty at both secondary and tertiary levels\, specialising in photography\, painting and design. He has wide experience in photography\, having worked as a freelance photojournalist in South East Asia during the turbulent 70’s. \nHis passion lies with the outer islands of the Hauraki Gulf and beyond and the mountains of Aotearoa and their spiritual link to the tangata whenua. \nHis work is in several collections in Aotearoa including The James Wallace Collection \nChas is a surfer and sailor and travels extensively collecting resources for his work. \n
URL:http://www.depotartspace.co.nz/event/motu-maua-maunga-paintings-by-chas-foxall/
CATEGORIES:Exhibitions
ATTACH;FMTTYPE=image/jpeg:http://www.depotartspace.co.nz/staging17/wp-content/uploads/2019/10/Chaz-Foxall-e1572489468898.jpg
END:VEVENT
BEGIN:VEVENT
DTSTART;TZID=Pacific/Auckland:20200118T140000
DTEND;TZID=Pacific/Auckland:20200205T160000
DTSTAMP:20191219T023622
CREATED:20191204T205231Z
LAST-MODIFIED:20191204T205231Z
UID:8147-1579356000-1580918400@www.depotartspace.co.nz
SUMMARY:Discovering New Zealand: A History of Writing and Illustration
DESCRIPTION:This will be a selling and educational exhibition telling the story of the discovery and exploration of New Zealand from the time the first explorers entered the Pacific. \nThe exhibition will begin with our early knowledge of the world\, and a massive and rich Southern Continent ‘Terra Australis Incognita’. The first settlement of NZ by early Maoris and their voyaging and navigation techniques\, through to the voyages of Abel Tasman \,Captain Cook and other explorers that followed him including whalers and sealers. \nThe story will be told using original charts \,maps\, portraits and engravings. Each time period will be further illustrated with the knowledge of the time e.g. medicine\, astronomy and technology. \nThis exhibition will also include the earliest hominid illustrations- cave drawings\, including early Maori ; cuneiform script on clay tablets; early Egyptian hieroglyphics on papyrus; early ‘books’ from Asia on wood and Chinese and Japanese writing on silk\, ivory and paper. Also included will be the introduction of vellum in Europe and the Middle East with early examples from prayer books and music. The invention of the printing press and its use and social implications; wood\, copper\, steel engraving\, lithography and the rise of books and newspapers . \n
URL:http://www.depotartspace.co.nz/event/discovering-new-zealand-a-history-of-writing-and-illustration/
ATTACH;FMTTYPE=image/jpeg:http://www.depotartspace.co.nz/staging17/wp-content/uploads/2019/12/Anthony-Savil-Poster-e1575492618207.jpg
END:VEVENT
BEGIN:VEVENT
DTSTART;TZID=Pacific/Auckland:20200208T120000
DTEND;TZID=Pacific/Auckland:20200318T160000
DTSTAMP:20191219T023622
CREATED:20191119T024423Z
LAST-MODIFIED:20191218T233100Z
UID:8119-1581163200-1584547200@www.depotartspace.co.nz
SUMMARY:CALL OUT: Pre-loved Re-loved
DESCRIPTION:BACK BY POPULAR DEMAND! \nCALL-OUT FOR: \nPaintings\, prints\, objects and vintage fashion. \nDepot Artspace’s first Pre-loved Re-loved exhibition\, an exciting project inspired by our local community\, was held in 2014 to assist owners to find a new home for their once-loved fine art and objects. We are excited to re-introduce the exhibition in February 2020. You can expect to see a large variety of art works including painting\, ceramics\, photography\, sculpture\, vintage clothing and more\, available for sale at the Depot directly from their previous owners. \nPre-loved Re-loved is also an opportunity to advocate for the introduction of Artist Resale Royalties legislation. Artist Resale Royalties entitle the artist to receive a royalty payment (normally a percentage of the sale price) from the sales of their artwork on the secondary market. Of any works over $1000 sold 5% is to the artist or to their estate. \nDepot Artspace produced the initial ARRA publication in 2015 and this has been revised and will be available for purchase during the exhibition. \nVintage fashion:  \nMust be bespoke garments \nItems of the highest quality \nReady to wear \nCollectible items \nCan also include accessories such as hats\, bags\, ensembles and gloves \n*The Depot Artspace reserves the right to select/make conscientious choices towards selection  \nDownload the Artwork Submission Form here \n  \n  \n
URL:http://www.depotartspace.co.nz/event/call-out-pre-loved-re-loved/
CATEGORIES:Coming Soon
ATTACH;FMTTYPE=image/jpeg:http://www.depotartspace.co.nz/staging17/wp-content/uploads/2019/11/Call-out-poster-e1574131036973.jpg
END:VEVENT
END:VCALENDAR